BEGIN:VCALENDAR
VERSION:2.0
PRODID:-//Livery Committee - ECPv6.15.20//NONSGML v1.0//EN
CALSCALE:GREGORIAN
METHOD:PUBLISH
X-WR-CALNAME:Livery Committee
X-ORIGINAL-URL:https://liverycommittee.org
X-WR-CALDESC:Events for Livery Committee
REFRESH-INTERVAL;VALUE=DURATION:PT1H
X-Robots-Tag:noindex
X-PUBLISHED-TTL:PT1H
BEGIN:VTIMEZONE
TZID:Europe/London
BEGIN:DAYLIGHT
TZOFFSETFROM:+0000
TZOFFSETTO:+0100
TZNAME:BST
DTSTART:20240331T010000
END:DAYLIGHT
BEGIN:STANDARD
TZOFFSETFROM:+0100
TZOFFSETTO:+0000
TZNAME:GMT
DTSTART:20241027T010000
END:STANDARD
BEGIN:DAYLIGHT
TZOFFSETFROM:+0000
TZOFFSETTO:+0100
TZNAME:BST
DTSTART:20250330T010000
END:DAYLIGHT
BEGIN:STANDARD
TZOFFSETFROM:+0100
TZOFFSETTO:+0000
TZNAME:GMT
DTSTART:20251026T010000
END:STANDARD
BEGIN:DAYLIGHT
TZOFFSETFROM:+0000
TZOFFSETTO:+0100
TZNAME:BST
DTSTART:20260329T010000
END:DAYLIGHT
BEGIN:STANDARD
TZOFFSETFROM:+0100
TZOFFSETTO:+0000
TZNAME:GMT
DTSTART:20261025T010000
END:STANDARD
END:VTIMEZONE
BEGIN:VEVENT
DTSTART;TZID=Europe/London:20250130T100000
DTEND;TZID=Europe/London:20250130T170000
DTSTAMP:20260420T111902
CREATED:20241028T135207Z
LAST-MODIFIED:20241028T135207Z
UID:10000526-1738231200-1738256400@liverycommittee.org
SUMMARY:Alternatives to Custody for Women Summit
DESCRIPTION:The Weavers Company in conjunction with Clinks will run a Summit exploring the alternatives to custody for women.
URL:https://liverycommittee.org/event/alternatives-to-custody-for-women-summit/
LOCATION:Church House\, Dean's Yard\, London\, SW1P 3NZ\, United Kingdom
ORGANIZER;CN="Weavers Company":MAILTO:clerk@weavers.org.uk
END:VEVENT
END:VCALENDAR