BEGIN:VCALENDAR
VERSION:2.0
PRODID:-//Livery Committee - ECPv6.15.20//NONSGML v1.0//EN
CALSCALE:GREGORIAN
METHOD:PUBLISH
X-ORIGINAL-URL:https://liverycommittee.org
X-WR-CALDESC:Events for Livery Committee
REFRESH-INTERVAL;VALUE=DURATION:PT1H
X-Robots-Tag:noindex
X-PUBLISHED-TTL:PT1H
BEGIN:VTIMEZONE
TZID:Europe/London
BEGIN:DAYLIGHT
TZOFFSETFROM:+0000
TZOFFSETTO:+0100
TZNAME:BST
DTSTART:20250330T010000
END:DAYLIGHT
BEGIN:STANDARD
TZOFFSETFROM:+0100
TZOFFSETTO:+0000
TZNAME:GMT
DTSTART:20251026T010000
END:STANDARD
BEGIN:DAYLIGHT
TZOFFSETFROM:+0000
TZOFFSETTO:+0100
TZNAME:BST
DTSTART:20260329T010000
END:DAYLIGHT
BEGIN:STANDARD
TZOFFSETFROM:+0100
TZOFFSETTO:+0000
TZNAME:GMT
DTSTART:20261025T010000
END:STANDARD
BEGIN:DAYLIGHT
TZOFFSETFROM:+0000
TZOFFSETTO:+0100
TZNAME:BST
DTSTART:20270328T010000
END:DAYLIGHT
BEGIN:STANDARD
TZOFFSETFROM:+0100
TZOFFSETTO:+0000
TZNAME:GMT
DTSTART:20271031T010000
END:STANDARD
END:VTIMEZONE
BEGIN:VEVENT
DTSTART;TZID=Europe/London:20260424T180000
DTEND;TZID=Europe/London:20260424T230000
DTSTAMP:20260424T135804
CREATED:20250609T105950Z
LAST-MODIFIED:20260205T143553Z
UID:10000589-1777053600-1777071600@liverycommittee.org
SUMMARY:The Treloar’s Gala Dinner – 20th Anniversary
DESCRIPTION:After two consecutive sell-out years\, The Treloar’s Gala Dinner returns in 2026 for a special 20th anniversary celebration sponsored by Exclusive Networks. \nFollowing its recent success at Mansion House\, the event moves to the equally magnificent Guildhall London on Friday 24 April 2026\, offering guests the opportunity to gather within one of the City’s most historic and ceremonial settings. This Emerald City themed black-tie evening hosted by the Lady Mayor and presented by Michael Kurn\, will unfold in true style\, beginning with a sparkling drinks reception and continuing through to a sumptuous three-course dinner\, live and silent auctions and  entertainment.  \nActor\, Broadcaster\, DJ\, Musician and Spandau Ballet legend Martin Kemp will be trading his bass for the decks\, bringing his iconic Back to the 80s DJ set to the event. Expect wall-to-wall anthems\, retro throwbacks and a non-stop sing-along. After selling out venues across the UK and Ireland throughout 2025 and 2026\, Martin will be making a very special stop at The Treloar’s Gala Dinner for an exclusive performance. \nYour attendance will directly support physically disabled children and young people across the country to access the specialist education\, therapies\, and support they need to flourish. Every ticket\, donation\, and auction bid helps fund personalised learning\, cutting-edge equipment\, and expert care\, empowering students to build independence\, confidence\, and brighter futures. \n“This is the first time I have stayed away from home – I love it. I love having my own space and more time to work on the things I need to – I love joining in with evening activities and I’ve made such good friends. Here the right support is in place to keep me safe.” Student at Treloar’s \nWe hope you can join us for a spectacular evening!
URL:https://liverycommittee.org/event/the-treloars-gala-dinner-20th-anniversary/
LOCATION:Guildhall\, United Kingdom
ATTACH;FMTTYPE=image/png:https://liverycommittee.org/wp-content/uploads/2025/06/Copy-of-Untitled-1350-x-1080-px-Instagram-Post.png
ORGANIZER;CN="Treloar School and College":MAILTO:liveries@treloar.org.uk
END:VEVENT
BEGIN:VEVENT
DTSTART;TZID=Europe/London:20260425T100000
DTEND;TZID=Europe/London:20260425T153000
DTSTAMP:20260424T135804
CREATED:20250820T140250Z
LAST-MODIFIED:20250820T140250Z
UID:10000611-1777111200-1777131000@liverycommittee.org
SUMMARY:History of Medicine Showcase: Medical Culture in History\, Literature & Film
DESCRIPTION:The History of Medicine course faculty will be holding their inaugural showcase event exploring medical cultures and representation in Literature and Film. This is a chance to get a taste of what the course has to offer and exclusive access to meet some of the brightest minds in the field of Medical History and Research.\nSpend a morning discovering the Development of Radiology with Professor Adrian Thomas (Canterbury Christ Church University) followed by the Evolution of Surgery with Deputy Course Director\, Dr Chris George. Professor Martin Rossor (UCL) delves into the History of Neuroscience before Dr Claire Elliot entreats us to her brand-new talk on Medicine in Literature and Film.  \nThis free event is open to our students and alumni on the DMCC and DPMSA diploma courses\, Society Members\, History Fellows and Liverymen.  \nContact: AcademicTraining@apothecaries.org
URL:https://liverycommittee.org/event/history-of-medicine-showcase-medical-culture-in-history-literature-film/
LOCATION:Apothecaries Hall\, Black Friars Lane\, London\, EC4V 6EJ\, United Kingdom
ATTACH;FMTTYPE=image/jpeg:https://liverycommittee.org/wp-content/uploads/2025/08/thumbnail_IMG_4622.jpg
END:VEVENT
BEGIN:VEVENT
DTSTART;TZID=Europe/London:20260427T180000
DTEND;TZID=Europe/London:20260427T204500
DTSTAMP:20260424T135804
CREATED:20260323T152029Z
LAST-MODIFIED:20260323T152029Z
UID:10000679-1777312800-1777322700@liverycommittee.org
SUMMARY:From Coffee House to Fleet Street; An Archive Evening Celebrating London’s Newspaper Legacy
DESCRIPTION:A Library and Archives Committee Event \nJoin us for a celebration of this story\, and discover some of the documents which shed light on it – all of them safely stored in the climate-controlled vault in the Tokefleld Centre at Stationers’ Hall. \nFrom the lifting of press licensing in 1695 to Elizabeth Mallet’s pioneering Daily Courant\, discover how London’s first daily newspapers emerged from the culture of argument and debate which had long characterised London’s coffee houses. \nTrace the fascinating journey of London’s printing culture across the Atlantic – from Benjamin’s Franklin’s apprenticeship in Bartholemew Close\, near the Hall\, to the revolutionary presses of Philadelphia. Discover how adventures in book publishing extended the newspapers’ business model. \nHear of the formation of the Newspaper Makers in 1931\, with the Prince of Wales\, the future Edward VIII\, attending an early dinner. Explore the story behind the merger of the Stationers and the Newspaper Makers in 1932 – a move which led to women being admitted to the Company for the first time. \nReflect on how the move from solid Fleet Street premises to a born-digital world has changed the world of newspapers forever. \nSpeakers \nJonathan Grun is a former editor of the Press Association\, and President of the Society of Editors. He is a Westminster Guide. \nDr Margarette Lincoln is a Curator Emerita at the National Maritime Museum\, Greenwich\, London\, where she was Deputy Director until 2015. She has been a Visiting Fellow at Goldsmiths\, University of London\, and Visiting Researcher at the University of Portsmouth. \nRoss Hamilton is a former teacher in China and the UK\, and author of the book Cycling in Surrey (published by Bradt). He is an experienced tour guide in the City of London. \nThe panel will be chaired by Court Assistant Oliver Gadsby\, Chair of the Library and Archives Committee and President of the Independent Publishers Guild. \nTickets: \n£30 attendance at the Archive Evening\, with wine\, soft drinks and sandwiches \n£10 online / virtual only \nSchedule: \n6.00 Exhibition opens \n6.30 PM Drinks reception \n7.00 PM Presentation and discussion \n7.45 PM Q&A \n8.00 PM Drinks and sandwiches \n8.45 PM Event Ends \nDress code: Smart Casual
URL:https://liverycommittee.org/event/from-coffee-house-to-fleet-street-an-archive-evening-celebrating-londons-newspaper-legacy/
LOCATION:Stationers’ Hall London
ATTACH;FMTTYPE=image/jpeg:https://liverycommittee.org/wp-content/uploads/2026/03/NMC-newsclipping-cropped-scaled.jpg
ORGANIZER;CN="events@stationers.org":MAILTO:events@stationers.org
END:VEVENT
BEGIN:VEVENT
DTSTART;TZID=Europe/London:20260428T110000
DTEND;TZID=Europe/London:20260428T123000
DTSTAMP:20260424T135804
CREATED:20260420T092554Z
LAST-MODIFIED:20260420T093222Z
UID:10000687-1777374000-1777379400@liverycommittee.org
SUMMARY:London’s Victoria area addressing biodiversity
DESCRIPTION:Pollinating London Together (PLT) is hosting a tour on 28th April to show how developments in London’s Victoria area are addressing biodiversity. \nLandsec have created the UK’s leading portfolio of urban places\, investing in places that make lasting positive contributions to local communities and the planet\, places that stand the test of time. As long-standing major investors in the renewal of office stock in the Victoria area\, they keep environmental\, sustainability and social issues at the core of everything they do – transforming public realms\, incorporating rooftop gardens and terraces into many of their schemes. \nLandsec have a rich heritage of taking sustainability seriously\, committed to ensuring it remains a priority across their business. \nPLT Members and Ambassadors\, Quality & Service (Q&S)\, who have helped create and maintain these gardens\, with the kind permission of Landsec\, are offering a rare opportunity to visit these roof areas to learn how the Q&S team manage urban green spaces organically and help establish ‘green corridors’ that enable pollinators to thrive. \nThe tour will be led by Jack Davies\, Q&S’ Contract Manager for the Landsec Portfolio.
URL:https://liverycommittee.org/event/londons-victoria-area-addressing-biodiversity/
LOCATION:Bressendon Place\, London\, SW1E 5EF
ORGANIZER;CN="Pollinating London Together":MAILTO:admin@pollinatinglondontogether.com
END:VEVENT
BEGIN:VEVENT
DTSTART;TZID=Europe/London:20260429T171500
DTEND;TZID=Europe/London:20260429T210000
DTSTAMP:20260424T135804
CREATED:20260305T101737Z
LAST-MODIFIED:20260305T102828Z
UID:10000675-1777482900-1777496400@liverycommittee.org
SUMMARY:Film showing: 250th anniversary of Adam Smith’s The Wealth of Nations
DESCRIPTION:To commemorate the 250th anniversary of The Wealth of Nations\, a film highlighting Adam Smith’s contribution to the understanding of markets and healthy societies will be shown on Wednesday 29th April. \nThe event is organised by Alderman and Sheriff Robert Hughes-Penney FCSI\, and the Chartered Institute for Securities and Investment.
URL:https://liverycommittee.org/event/film-showing-250th-anniversary-of-adam-smiths-the-wealth-of-nations/
LOCATION:The Old Bailey\, London\, EC4M 7EH\, United Kingdom
END:VEVENT
END:VCALENDAR