BEGIN:VCALENDAR
VERSION:2.0
PRODID:-//Livery Committee - ECPv6.15.20//NONSGML v1.0//EN
CALSCALE:GREGORIAN
METHOD:PUBLISH
X-ORIGINAL-URL:https://liverycommittee.org
X-WR-CALDESC:Events for Livery Committee
REFRESH-INTERVAL;VALUE=DURATION:PT1H
X-Robots-Tag:noindex
X-PUBLISHED-TTL:PT1H
BEGIN:VTIMEZONE
TZID:Europe/London
BEGIN:DAYLIGHT
TZOFFSETFROM:+0000
TZOFFSETTO:+0100
TZNAME:BST
DTSTART:20240331T010000
END:DAYLIGHT
BEGIN:STANDARD
TZOFFSETFROM:+0100
TZOFFSETTO:+0000
TZNAME:GMT
DTSTART:20241027T010000
END:STANDARD
BEGIN:DAYLIGHT
TZOFFSETFROM:+0000
TZOFFSETTO:+0100
TZNAME:BST
DTSTART:20250330T010000
END:DAYLIGHT
BEGIN:STANDARD
TZOFFSETFROM:+0100
TZOFFSETTO:+0000
TZNAME:GMT
DTSTART:20251026T010000
END:STANDARD
BEGIN:DAYLIGHT
TZOFFSETFROM:+0000
TZOFFSETTO:+0100
TZNAME:BST
DTSTART:20260329T010000
END:DAYLIGHT
BEGIN:STANDARD
TZOFFSETFROM:+0100
TZOFFSETTO:+0000
TZNAME:GMT
DTSTART:20261025T010000
END:STANDARD
END:VTIMEZONE
BEGIN:VEVENT
DTSTART;TZID=Europe/London:20250507T140000
DTEND;TZID=Europe/London:20250507T154500
DTSTAMP:20260421T090915
CREATED:20250409T131217Z
LAST-MODIFIED:20250409T131217Z
UID:10000567-1746626400-1746632700@liverycommittee.org
SUMMARY:Visit to Finsbury Circus Gardens
DESCRIPTION:We are excited to invite you to a special visit to Finsbury Circus Gardens\, the largest green space within the City of London at approximately 3 acres. Previously used as a Crossrail worksite during the construction of the Elizabeth Line\, the gardens sit almost directly above Liverpool Street’s Elizabeth Line station. Following the completion of the works\, the site was returned to the City of London Corporation\, with funds allocated for its reinvigoration. \nThe City Corporation’s Open Spaces team has led the transformation project\, which is now nearing completion—the builders are about to leave! \nAfter a brief introduction\, Jake Tibbetts\, Manager of City Gardens at the City Corporation\, will provide insights into the challenges faced during the project and the complexities of designing and delivering the new gardens. \nFollowing our tour\, those who wish can join us for refreshments at Gail’s in Liverpool Street Station for further discussions and networking. \n🚶‍♂️ Important Information: \nThe visit takes place outdoors\, so please dress appropriately for early May weather. While there is some shade\, the sun can be strong.\nThere are no toilet facilities in the Gardens\, but facilities are available at Liverpool Street Station.\nGroup size is limited to 20 participants\, so book early to secure your place! \n🌿 A perfect time to visit\, as the building works are finishing—don’t miss this unique opportunity!
URL:https://liverycommittee.org/event/visit-to-finsbury-circus-gardens/
LOCATION:Finsbury Circus Gardens
ATTACH;FMTTYPE=image/jpeg:https://liverycommittee.org/wp-content/uploads/2025/04/View-1-scaled-2.jpg
ORGANIZER;CN="Pollinating London Together":MAILTO:admin@pollinatinglondontogether.com
END:VEVENT
END:VCALENDAR