BEGIN:VCALENDAR
VERSION:2.0
PRODID:-//Livery Committee - ECPv6.15.20//NONSGML v1.0//EN
CALSCALE:GREGORIAN
METHOD:PUBLISH
X-ORIGINAL-URL:https://liverycommittee.org
X-WR-CALDESC:Events for Livery Committee
REFRESH-INTERVAL;VALUE=DURATION:PT1H
X-Robots-Tag:noindex
X-PUBLISHED-TTL:PT1H
BEGIN:VTIMEZONE
TZID:Europe/London
BEGIN:DAYLIGHT
TZOFFSETFROM:+0000
TZOFFSETTO:+0100
TZNAME:BST
DTSTART:20240331T010000
END:DAYLIGHT
BEGIN:STANDARD
TZOFFSETFROM:+0100
TZOFFSETTO:+0000
TZNAME:GMT
DTSTART:20241027T010000
END:STANDARD
BEGIN:DAYLIGHT
TZOFFSETFROM:+0000
TZOFFSETTO:+0100
TZNAME:BST
DTSTART:20250330T010000
END:DAYLIGHT
BEGIN:STANDARD
TZOFFSETFROM:+0100
TZOFFSETTO:+0000
TZNAME:GMT
DTSTART:20251026T010000
END:STANDARD
BEGIN:DAYLIGHT
TZOFFSETFROM:+0000
TZOFFSETTO:+0100
TZNAME:BST
DTSTART:20260329T010000
END:DAYLIGHT
BEGIN:STANDARD
TZOFFSETFROM:+0100
TZOFFSETTO:+0000
TZNAME:GMT
DTSTART:20261025T010000
END:STANDARD
END:VTIMEZONE
BEGIN:VTIMEZONE
TZID:Europe/Paris
BEGIN:DAYLIGHT
TZOFFSETFROM:+0100
TZOFFSETTO:+0200
TZNAME:CEST
DTSTART:20240331T010000
END:DAYLIGHT
BEGIN:STANDARD
TZOFFSETFROM:+0200
TZOFFSETTO:+0100
TZNAME:CET
DTSTART:20241027T010000
END:STANDARD
BEGIN:DAYLIGHT
TZOFFSETFROM:+0100
TZOFFSETTO:+0200
TZNAME:CEST
DTSTART:20250330T010000
END:DAYLIGHT
BEGIN:STANDARD
TZOFFSETFROM:+0200
TZOFFSETTO:+0100
TZNAME:CET
DTSTART:20251026T010000
END:STANDARD
BEGIN:DAYLIGHT
TZOFFSETFROM:+0100
TZOFFSETTO:+0200
TZNAME:CEST
DTSTART:20260329T010000
END:DAYLIGHT
BEGIN:STANDARD
TZOFFSETFROM:+0200
TZOFFSETTO:+0100
TZNAME:CET
DTSTART:20261025T010000
END:STANDARD
END:VTIMEZONE
BEGIN:VEVENT
DTSTART;TZID=Europe/London:20250923T080000
DTEND;TZID=Europe/London:20250923T200000
DTSTAMP:20260424T123947
CREATED:20250812T093336Z
LAST-MODIFIED:20250812T093336Z
UID:10000607-1758614400-1758657600@liverycommittee.org
SUMMARY:City Giving Day
DESCRIPTION:Organised by The Lord Mayor’s Appeal\, City Giving Day is an annual celebration of philanthropy and community spirit. It offers organisations a chance to showcase the incredible work they do to support local communities and charity partners.\nThe day kicks off with a photocall in Guildhall Yard\, where the Lord Mayor\, Lady Mayoress\, Sheriffs\, and Aldermen will join representatives from participating organisations. From there\, the Lord Mayor’s team will visit various sites to see how each organisation is celebrating the day.\nThere are also a number of events to sign up for (all funds raised will go to The Lord Mayor’s Appeal to benefit its charity partners – Homewards\, A Royal Foundation programme and MQ Mental Health Research):\n– Tour de City Static Wattbike Challenge\n– City Walks\n– Treasure Hunt\n– Quiz Night\nTo find out more about City Giving Day or the events listed above visit the website: www.thelordmayorsappeal.org/cgd
URL:https://liverycommittee.org/event/city-giving-day-2/
LOCATION:Various
ATTACH;FMTTYPE=image/png:https://liverycommittee.org/wp-content/uploads/2025/08/CGD_on_white.png
ORGANIZER;CN="Lord Mayor's Appeal":MAILTO:info@TheLordMayorsAppeal.org
END:VEVENT
BEGIN:VEVENT
DTSTART;TZID=Europe/London:20250923T183000
DTEND;TZID=Europe/London:20250923T210000
DTSTAMP:20260424T123947
CREATED:20250828T082623Z
LAST-MODIFIED:20250828T082623Z
UID:10000613-1758652200-1758661200@liverycommittee.org
SUMMARY:Horners Company Presentation on Award Winning Evolution in Protective Body Armour
DESCRIPTION:The Worshipful Company of Horners presents\, in association with the British Plastics Federation (BPF)\, three annual awards for innovation\, design and sustainability in plastic products\, processes and packaging. The most prestigious of these is the Horners Award for Plastics Innovation and Design\, the oldest such award in the world\, having been established in 1946. \nIn 2024\, this award was presented to a research group in the School of Design and Creative Arts at Loughborough University\, for their revolutionary next-generation additive manufactured police body armour. Dr Andrew Johnson\, lead researcher of the group\, has now agreed to give us a report on progress made in the body armour production and the next steps required to see it adopted by the UK’s police forces. \nThis presentation will be of interest to those involved in product design\, the use of novel materials in product innovation\, the development of equipment and protective clothing for the security forces and first responders and\, of course\, members of the Worshipful Company of Horners and other Livery Companies. \nPlease join us on Zoom using the link below to attend this live presentation\, entitled “Protecting the Protectors: Evolving Body Armour for Modern Policing”. \nhttps://us02web.zoom.us/j/81785071837?pwd=DaaW7gXZuzHbWLkZYfMfwcTeQNpUiZ.1\nMeeting ID: 817 8507 1837\nPasscode: 976541 \nSo we can anticipate numbers\, it would be helpful if you could let me know if you intend to join the Zoom presentation by emailing Prof. Stefaan Simons. \nCourt Assistant Prof. Stefaan Simons\nAwards Committee Chairman\nThe Worshipful Company of Horners \nProfessor S J R Simons\, BSc (Hons)\, PhD\, CEng FIChemE\nEmeritus Professor of Energy Systems\nBrunel University London
URL:https://liverycommittee.org/event/horners-company-presentation-on-award-winning-evolution-in-protective-body-armour-tuesday/
ATTACH;FMTTYPE=image/jpeg:https://liverycommittee.org/wp-content/uploads/2025/08/Picture2.jpg
ORGANIZER;CN="Horners' Company":MAILTO:clerk@horners.org.uk
END:VEVENT
BEGIN:VEVENT
DTSTART;VALUE=DATE:20250926
DTEND;VALUE=DATE:20250927
DTSTAMP:20260424T123947
CREATED:20221028T131102Z
LAST-MODIFIED:20221028T131102Z
UID:10000264-1758844800-1758931199@liverycommittee.org
SUMMARY:Admission of Sheriffs
DESCRIPTION:
URL:https://liverycommittee.org/event/admission-of-sheriffs-4/
END:VEVENT
BEGIN:VEVENT
DTSTART;VALUE=DATE:20250928
DTEND;VALUE=DATE:20250929
DTSTAMP:20260424T123947
CREATED:20240717T074438Z
LAST-MODIFIED:20240717T074548Z
UID:10000509-1759017600-1759103999@liverycommittee.org
SUMMARY:Woolmen's Sheep Drive and Livery Fair
DESCRIPTION:The annual ceremony for Freemen to exercise their right to drive sheep over a City bridge.  Organised by the Worshipful Company of Woolmen.
URL:https://liverycommittee.org/event/woolmens-sheep-drive-and-livery-fair-2/
ORGANIZER;CN="Worshipful Company of Woolmen":MAILTO:clerk@woolmen.com
END:VEVENT
END:VCALENDAR