BEGIN:VCALENDAR
VERSION:2.0
PRODID:-//Livery Committee - ECPv6.15.20//NONSGML v1.0//EN
CALSCALE:GREGORIAN
METHOD:PUBLISH
X-WR-CALNAME:Livery Committee
X-ORIGINAL-URL:https://liverycommittee.org
X-WR-CALDESC:Events for Livery Committee
REFRESH-INTERVAL;VALUE=DURATION:PT1H
X-Robots-Tag:noindex
X-PUBLISHED-TTL:PT1H
BEGIN:VTIMEZONE
TZID:Europe/London
BEGIN:DAYLIGHT
TZOFFSETFROM:+0000
TZOFFSETTO:+0100
TZNAME:BST
DTSTART:20240331T010000
END:DAYLIGHT
BEGIN:STANDARD
TZOFFSETFROM:+0100
TZOFFSETTO:+0000
TZNAME:GMT
DTSTART:20241027T010000
END:STANDARD
BEGIN:DAYLIGHT
TZOFFSETFROM:+0000
TZOFFSETTO:+0100
TZNAME:BST
DTSTART:20250330T010000
END:DAYLIGHT
BEGIN:STANDARD
TZOFFSETFROM:+0100
TZOFFSETTO:+0000
TZNAME:GMT
DTSTART:20251026T010000
END:STANDARD
BEGIN:DAYLIGHT
TZOFFSETFROM:+0000
TZOFFSETTO:+0100
TZNAME:BST
DTSTART:20260329T010000
END:DAYLIGHT
BEGIN:STANDARD
TZOFFSETFROM:+0100
TZOFFSETTO:+0000
TZNAME:GMT
DTSTART:20261025T010000
END:STANDARD
END:VTIMEZONE
BEGIN:VEVENT
DTSTART;TZID=Europe/London:20251008T100000
DTEND;TZID=Europe/London:20251011T170000
DTSTAMP:20260422T110550
CREATED:20250918T155616Z
LAST-MODIFIED:20250918T160016Z
UID:10000627-1759917600-1760202000@liverycommittee.org
SUMMARY:Art In The City
DESCRIPTION:London’s Dreaming exhibition will be mounted at Painters’ Hall in the heart of the City of London and runs from October 7th to 11th. Organised by the Painter-Stainers’ Arts Society and curated by artist members\, Tim Wright and Yuki Aruga\, the exhibition is exclusively selected from the Company’s membership. The art work ranges across the disciplines of abstraction\, figuration\, portrait-painting\, installation\, sculpture\, printmaking and photography and includes the crafts of gilding\, frame- making and trompe-l’oeil.
URL:https://liverycommittee.org/event/art-in-the-city/
LOCATION:Painters’ Hall\, 9 Little Trinity Lane\, London\, EC4V 2AD\, United Kingdom
ORGANIZER;CN="Worshipful Company of Painter-Stainers":MAILTO:clerk@painters-hall.co.uk
END:VEVENT
END:VCALENDAR