BEGIN:VCALENDAR
VERSION:2.0
PRODID:-//Livery Committee - ECPv6.15.20//NONSGML v1.0//EN
CALSCALE:GREGORIAN
METHOD:PUBLISH
X-ORIGINAL-URL:https://liverycommittee.org
X-WR-CALDESC:Events for Livery Committee
REFRESH-INTERVAL;VALUE=DURATION:PT1H
X-Robots-Tag:noindex
X-PUBLISHED-TTL:PT1H
BEGIN:VTIMEZONE
TZID:Europe/London
BEGIN:DAYLIGHT
TZOFFSETFROM:+0000
TZOFFSETTO:+0100
TZNAME:BST
DTSTART:20240331T010000
END:DAYLIGHT
BEGIN:STANDARD
TZOFFSETFROM:+0100
TZOFFSETTO:+0000
TZNAME:GMT
DTSTART:20241027T010000
END:STANDARD
BEGIN:DAYLIGHT
TZOFFSETFROM:+0000
TZOFFSETTO:+0100
TZNAME:BST
DTSTART:20250330T010000
END:DAYLIGHT
BEGIN:STANDARD
TZOFFSETFROM:+0100
TZOFFSETTO:+0000
TZNAME:GMT
DTSTART:20251026T010000
END:STANDARD
BEGIN:DAYLIGHT
TZOFFSETFROM:+0000
TZOFFSETTO:+0100
TZNAME:BST
DTSTART:20260329T010000
END:DAYLIGHT
BEGIN:STANDARD
TZOFFSETFROM:+0100
TZOFFSETTO:+0000
TZNAME:GMT
DTSTART:20261025T010000
END:STANDARD
END:VTIMEZONE
BEGIN:VEVENT
DTSTART;TZID=Europe/London:20251028T100000
DTEND;TZID=Europe/London:20251028T160000
DTSTAMP:20260422T121415
CREATED:20241112T134715Z
LAST-MODIFIED:20241112T134715Z
UID:10000531-1761645600-1761667200@liverycommittee.org
SUMMARY:Wizardry in Wood 2025
DESCRIPTION:Celebrating the Art of Woodturning: Wizardry in Wood 2025 \nPlaisterers’ Hall\, London\, UK – 28 to 31 October 2025 – The Worshipful Company of Turners is thrilled to announce the return of the acclaimed Wizardry in Wood\, occurring every four years\, a celebration of woodturning and wood art. The event will transform London’s historic Plaisterers’ Hall into a stunning showcase of craftsmanship\, artistry\, and innovation in wood. Featuring master artisans from across the UK and beyond\, Wizardry in Wood 2025 promises to captivate attendees with extraordinary works and a unique opportunity to engage with leading experts in the field. \n“We are excited to welcome everyone back for Wizardry in Wood 2025\,” said the Master of the Worshipful Company of Turners. “This event is a unique platform for sharing the beauty and versatility of wood\, celebrating the incredible talent and dedication of artists who push the boundaries of woodturning and inspire future generations.”
URL:https://liverycommittee.org/event/wizardry-in-wood-2025/
ATTACH;FMTTYPE=image/jpeg:https://liverycommittee.org/wp-content/uploads/2024/11/Email-signature-WIW25-small.jpg
ORGANIZER;CN="Worshipful Company of Turners":MAILTO:clerk@turnersco.com
END:VEVENT
BEGIN:VEVENT
DTSTART;TZID=Europe/London:20251028T183000
DTEND;TZID=Europe/London:20251028T193000
DTSTAMP:20260422T121415
CREATED:20250812T093553Z
LAST-MODIFIED:20250812T093553Z
UID:10000599-1761676200-1761679800@liverycommittee.org
SUMMARY:John Locke & Sydenham Lecture – Dr Rupal Shah & Dr Rageshri Dhairyawan
DESCRIPTION:Lecture title: Unheard: On medical silencing (Sydenham Lecture) \nSpeaker: Dr Rageshri Dhairyawan \nSydenham lecture 2025\nWhen Dr Rageshri Dhairyawan was admitted to hospital as a patient she didn’t receive the pain medication that she told them she needed\, despite her being a senior doctor. It was in that moment she understood that something was deeply wrong with our healthcare system – medical silencing is pervasive and hindering patient safety and health equity.\nIn Unheard\, Dr Dhairyawan takes us on a journey through history to show how silencing patients has been ingrained in medicine from its inception. Western medicine has been built on the assumption that power should always lie with the doctor\, and that patients should be powerless to decisions made about their body if it is done to make them well. This\, alongside the prejudices of society\, has led to dramatic gaps in medical knowledge because for centuries people have not been heard. \nDr Dhairyawan offers a way to reshape our health system for a future where active and engaged listening is the new frontier. \nThe John Locke lecture presented by Dr Rupal Shah will be available shortly.
URL:https://liverycommittee.org/event/john-locke-sydenham-lecture-dr-rupal-shah-dr-rageshri-dhairyawan/
LOCATION:Apothecaries Hall\, Black Friars Lane\, London\, EC4V 6EJ\, United Kingdom
ATTACH;FMTTYPE=image/jpeg:https://liverycommittee.org/wp-content/uploads/2025/08/John-Locke-Sydenham-Lecture-scaled.jpg
ORGANIZER;CN="Apothecaries Academic Events":MAILTO:academicevents@apothecaries.org
END:VEVENT
BEGIN:VEVENT
DTSTART;TZID=Europe/London:20251030T103000
DTEND;TZID=Europe/London:20251030T120000
DTSTAMP:20260422T121415
CREATED:20250923T151926Z
LAST-MODIFIED:20250923T151926Z
UID:10000630-1761820200-1761825600@liverycommittee.org
SUMMARY:Armed Forces Engagement Conference
DESCRIPTION:
URL:https://liverycommittee.org/event/armed-forces-engagement-conference/
LOCATION:Drapers’ Hall\, Throgmorton Avenue\, London\, EC2N 2DQ
END:VEVENT
BEGIN:VEVENT
DTSTART;TZID=Europe/London:20251030T173000
DTEND;TZID=Europe/London:20251030T203000
DTSTAMP:20260422T121415
CREATED:20250902T153745Z
LAST-MODIFIED:20250902T154529Z
UID:10000618-1761845400-1761856200@liverycommittee.org
SUMMARY:Justice for All - 800 Years of Justice: Magna Carta to UN SDG 16
DESCRIPTION:
URL:https://liverycommittee.org/event/justice-for-all-800-years-of-justice-magna-carta-to-un-sdg-16/
LOCATION:The Old Bailey\, London\, EC4M 7EH\, United Kingdom
END:VEVENT
BEGIN:VEVENT
DTSTART;TZID=Europe/London:20251030T183000
DTEND;TZID=Europe/London:20251030T210000
DTSTAMP:20260422T121415
CREATED:20251013T112940Z
LAST-MODIFIED:20251013T112940Z
UID:10000633-1761849000-1761858000@liverycommittee.org
SUMMARY:Nature Based Water Solutions in Drylands - the Paviors introduce Sand Dams Worldwide
DESCRIPTION:With hosepipe bans in most of the country\, water management is increasingly important and more visible in the UK than ever. The Worshipful Company of Paviors are supporting Sand Dams Worldwide as their Master’s Charity for 2025. Please come and listen to David Jordan\, OBE\, Chair of Sand Dams Worldwide\, Miguel Veiga-Pestana \, Chief Sustainability at Drax and Sand Dams Worldwide Board member and Charlie Laing\, the Master of the Worshipful Company of Paviors discuss water conservation in areas even drier than the UK in 2025. \nYou are welcome to visit the Gardens before the event but please note that the Gardens shut at 16.00 and our event starts at 18.30. \n18.30 – Reception starts. \n19.00 – Talks followed by refreshments. \n21.00 – Event close.
URL:https://liverycommittee.org/event/nature-based-water-solutions-in-drylands-the-paviors-introduce-sand-dams-worldwide/
LOCATION:Cambridge Cottage\, Royal Botanic Gardens\, 37 Kew Green\, Cambridge Cottage\, 37 Kew Green\, London\, TW9 3AB\, United Kingdom
ATTACH;FMTTYPE=image/jpeg:https://liverycommittee.org/wp-content/uploads/2025/10/Banner-image.jpg
ORGANIZER;CN="master@paviors.org.uk":MAILTO:master@paviors.org.uk
END:VEVENT
END:VCALENDAR