BEGIN:VCALENDAR
VERSION:2.0
PRODID:-//Livery Committee - ECPv6.15.20//NONSGML v1.0//EN
CALSCALE:GREGORIAN
METHOD:PUBLISH
X-WR-CALNAME:Livery Committee
X-ORIGINAL-URL:https://liverycommittee.org
X-WR-CALDESC:Events for Livery Committee
REFRESH-INTERVAL;VALUE=DURATION:PT1H
X-Robots-Tag:noindex
X-PUBLISHED-TTL:PT1H
BEGIN:VTIMEZONE
TZID:Europe/London
BEGIN:DAYLIGHT
TZOFFSETFROM:+0000
TZOFFSETTO:+0100
TZNAME:BST
DTSTART:20240331T010000
END:DAYLIGHT
BEGIN:STANDARD
TZOFFSETFROM:+0100
TZOFFSETTO:+0000
TZNAME:GMT
DTSTART:20241027T010000
END:STANDARD
BEGIN:DAYLIGHT
TZOFFSETFROM:+0000
TZOFFSETTO:+0100
TZNAME:BST
DTSTART:20250330T010000
END:DAYLIGHT
BEGIN:STANDARD
TZOFFSETFROM:+0100
TZOFFSETTO:+0000
TZNAME:GMT
DTSTART:20251026T010000
END:STANDARD
BEGIN:DAYLIGHT
TZOFFSETFROM:+0000
TZOFFSETTO:+0100
TZNAME:BST
DTSTART:20260329T010000
END:DAYLIGHT
BEGIN:STANDARD
TZOFFSETFROM:+0100
TZOFFSETTO:+0000
TZNAME:GMT
DTSTART:20261025T010000
END:STANDARD
END:VTIMEZONE
BEGIN:VTIMEZONE
TZID:Europe/Paris
BEGIN:DAYLIGHT
TZOFFSETFROM:+0100
TZOFFSETTO:+0200
TZNAME:CEST
DTSTART:20240331T010000
END:DAYLIGHT
BEGIN:STANDARD
TZOFFSETFROM:+0200
TZOFFSETTO:+0100
TZNAME:CET
DTSTART:20241027T010000
END:STANDARD
BEGIN:DAYLIGHT
TZOFFSETFROM:+0100
TZOFFSETTO:+0200
TZNAME:CEST
DTSTART:20250330T010000
END:DAYLIGHT
BEGIN:STANDARD
TZOFFSETFROM:+0200
TZOFFSETTO:+0100
TZNAME:CET
DTSTART:20251026T010000
END:STANDARD
BEGIN:DAYLIGHT
TZOFFSETFROM:+0100
TZOFFSETTO:+0200
TZNAME:CEST
DTSTART:20260329T010000
END:DAYLIGHT
BEGIN:STANDARD
TZOFFSETFROM:+0200
TZOFFSETTO:+0100
TZNAME:CET
DTSTART:20261025T010000
END:STANDARD
END:VTIMEZONE
BEGIN:VEVENT
DTSTART;TZID=Europe/London:20251103T063000
DTEND;TZID=Europe/London:20251103T193000
DTSTAMP:20260422T134542
CREATED:20250812T093508Z
LAST-MODIFIED:20250812T093508Z
UID:10000603-1762151400-1762198200@liverycommittee.org
SUMMARY:English Delftware Drug Jars\, Reading the Runes – Alan Humphries
DESCRIPTION:Alan Humphries will show a wide variety of the different hand painted designs and drug labels on these seventeenth and eighteenth century jars. \nThere are the names of the contents. Look closely; some will have dates and the initials of their original owners. Understanding the style of painting – some of angels\, others of mythical creatures or floral swags – can inform us about where they were made. \nManufactured from c.1640 to 1780\, the shapes and decoration changed over this period. Imagine how impressive a shop wall full of these jars made as a set might be\, and how the beauty of the designs may have helped to convince customers of both the efficacy of the contents and the skills of their owner? \nA Librarian to the Thackray Museum\, Leeds which with 436 jars and 11 pill tiles is the largest collection of English Delftware drug jars anywhere\, Alan was appointed at its foundation in 1990 and remained in charge until he retired in 2021. Describing his interest “an obsession which still continues today”\, Alan has traced and catalogued around 2900 English jars to date. \nBookings open shortly.
URL:https://liverycommittee.org/event/english-delftware-drug-jars-reading-the-runes-alan-humphries/
LOCATION:Apothecaries Hall\, Black Friars Lane\, London\, EC4V 6EJ\, United Kingdom
ATTACH;FMTTYPE=image/jpeg:https://liverycommittee.org/wp-content/uploads/2025/08/M-8-of-9-scaled.jpg
ORGANIZER;CN="Beci Ryan":MAILTO:Events@apothecaries.org
END:VEVENT
BEGIN:VEVENT
DTSTART;TZID=Europe/London:20251105T130000
DTEND;TZID=Europe/London:20251105T140000
DTSTAMP:20260422T134542
CREATED:20251028T145745Z
LAST-MODIFIED:20251028T145745Z
UID:10000637-1762347600-1762351200@liverycommittee.org
SUMMARY:City Music Foundation Barts Lunchtime Concert Series - Geirþrúður Anna Guðmundsdóttir and Antoine Préat
DESCRIPTION:Join us at 1pm as we return to the newly refurbished Barts Great Hall for this year’s CMF lunchtime concert series. Cellist Geirþrúður Anna Guðmundsdóttir will perform with pianist Antoine Préat for the opening concert on Wednesday 5th November.  \nProgramme: \nRobert Schumann: Fantasiestücke\, Op. 73\nJòn Nordal: Pictures on a Panel Wall\nEdvard Grieg: Cello Sonata in A Minor\, Op. 36 \nTickets are only available in advance via City Music Foundation’s website. Concessions available and tickets also sold on the door. Wheelchair access to the venue.
URL:https://liverycommittee.org/event/city-music-foundation-barts-lunchtime-concert-series-geirthrudur-anna-gudmundsdottir-and-antoine-preat/
LOCATION:The Great Hall\, St Bartholomew’s Hospital\, St. Bartholomew's Hospital\, W Smithfield\, London\, EC1A 7BE
ATTACH;FMTTYPE=image/jpeg:https://liverycommittee.org/wp-content/uploads/2025/10/IMG_0387.jpeg
ORGANIZER;CN="City Music Foundation":MAILTO:info@citymusicfoundation.org
END:VEVENT
BEGIN:VEVENT
DTSTART;TZID=Europe/London:20251105T183000
DTEND;TZID=Europe/London:20251105T223000
DTSTAMP:20260422T134542
CREATED:20250414T155130Z
LAST-MODIFIED:20250918T100811Z
UID:10000572-1762367400-1762381800@liverycommittee.org
SUMMARY:Lord Mayor's Grand Finale Dinner
DESCRIPTION:Join the Lord Mayor and Lady Mayoress for their final fundraiser of the year. Enjoy a wonderful evening of entertainment and comedy from Alexander Armstrong and MC William Sitwell for The Lord Mayor’s Last Laugh held in the impressive Guildhall on Wednesday 5 November 2025. \nGuests can expect a Nyetimber drinks reception\, a delicious three course dinner\, lots of laughs and plenty of fundraising activities all in aid of          The Lord Mayor’s Appeal. Standard tables of ten are £3\,500 and premium tables of ten are £5\,000 with individual tickets at £350pp. Please join us at the top comedy night in the City this year!
URL:https://liverycommittee.org/event/lord-mayors-grand-finale-dinner/
LOCATION:Guildhall\, United Kingdom
ATTACH;FMTTYPE=image/jpeg:https://liverycommittee.org/wp-content/uploads/2025/04/300-x-300.jpg
ORGANIZER;CN="Lord Mayor's Appeal":MAILTO:info@TheLordMayorsAppeal.org
END:VEVENT
BEGIN:VEVENT
DTSTART;TZID=Europe/London:20251106T183000
DTEND;TZID=Europe/London:20251106T220000
DTSTAMP:20260422T134542
CREATED:20250520T122731Z
LAST-MODIFIED:20250520T122731Z
UID:10000585-1762453800-1762466400@liverycommittee.org
SUMMARY:The 28th Horners’ Ralph Anderson Memorial Lecture
DESCRIPTION:The Lecture will be given by Dr Alicia Chrysostomou. The title of the lecture: ‘Plastics – Misunderstandings\, Myths and Misdirection’\nThe talk will covers aspects of the material not commonly voiced\, including its indelible role in our lives\, whether recent denouncements are justified\, and how it could further our desire to become better environmentally protective citizens. Society opposes plastic with little understanding of the material or the environmental harm associated with alternatives. \nWhen it comes to plastics the genie is out of the bottle. Instead of trying to stuff it back\, should we instead try embrace its positive aspects? Maybe with scientific and not media driven facts at our fingertips we can make the right choices. \nTimings:\n	6:30pm               Pre-Lecture Reception\n	7:00pm               Dr Alicia Chrysostomou delivers the Ralph Anderson Lecture\n	8:00pm               Buffet Supper\n	10:00pm             Time for a safe journey home \nDress:  The dress for the occasion will be Lounge suit and\, if it is your custom\, we would ask that your Master/ Prime Warden/ Upper Bailiff or representative would kindly wear his or her badge of office (if appropriate).\nLocation:  Royal Society of Medicine\, London. W1G 0AE
URL:https://liverycommittee.org/event/the-28th-horners-ralph-anderson-memorial-lecture/
LOCATION:The Royal Society of Medicine\, Royal Society of Medicine\, London\, W1G 0AE\, United Kingdom
ATTACH;FMTTYPE=image/jpeg:https://liverycommittee.org/wp-content/uploads/2025/05/Picture1.jpg
ORGANIZER;CN="Horners' Company":MAILTO:clerk@horners.org.uk
END:VEVENT
BEGIN:VEVENT
DTSTART;VALUE=DATE:20251107
DTEND;VALUE=DATE:20251108
DTSTAMP:20260422T134542
CREATED:20221028T131255Z
LAST-MODIFIED:20221028T131255Z
UID:10000266-1762473600-1762559999@liverycommittee.org
SUMMARY:Admission of Lord Mayor (Silent Ceremony)
DESCRIPTION:
URL:https://liverycommittee.org/event/admission-of-lord-mayor-silent-ceremony-3/
END:VEVENT
BEGIN:VEVENT
DTSTART;TZID=Europe/London:20251107T093000
DTEND;TZID=Europe/London:20251107T160000
DTSTAMP:20260422T134542
CREATED:20250812T093541Z
LAST-MODIFIED:20250812T093541Z
UID:10000600-1762507800-1762531200@liverycommittee.org
SUMMARY:Creative Writing for Medical Ethics
DESCRIPTION:Unleash your creativity\nCalling all writers and curious minds.\nDive into the captivating intersection of medical ethics and creative writing with our interactive one-day course\, now in its seventh year.\nLed by Dr Helen Mosby (Open University) and Philosophy Fellows’ Convenor\, Dr Andrew Papanikitas\, this masterclass will bring ethical quandaries to life\, sharpen your literary skills and deepen your understanding of medical ethics through a wealth of diverse perspectives.\nJoin us at Apothecaries’ Hall or online via Zoom. This event is free to attend for our members\, students and fellows. (Non-Members £50/£30 student rate)\nEmail: AcademicTraining@apothecaries.org for more information and to reserve your place
URL:https://liverycommittee.org/event/creative-writing-for-medical-ethics/
LOCATION:Apothecaries Hall\, Black Friars Lane\, London\, EC4V 6EJ\, United Kingdom
ATTACH;FMTTYPE=image/png:https://liverycommittee.org/wp-content/uploads/2025/08/Creative-Writing-for-Medical-Ethics-Flyer.png
ORGANIZER;CN="academictraining@apothecarr":MAILTO:AcademicTraining@apothecaries.org
END:VEVENT
END:VCALENDAR