BEGIN:VCALENDAR
VERSION:2.0
PRODID:-//Livery Committee - ECPv6.15.20//NONSGML v1.0//EN
CALSCALE:GREGORIAN
METHOD:PUBLISH
X-WR-CALNAME:Livery Committee
X-ORIGINAL-URL:https://liverycommittee.org
X-WR-CALDESC:Events for Livery Committee
REFRESH-INTERVAL;VALUE=DURATION:PT1H
X-Robots-Tag:noindex
X-PUBLISHED-TTL:PT1H
BEGIN:VTIMEZONE
TZID:Europe/London
BEGIN:DAYLIGHT
TZOFFSETFROM:+0000
TZOFFSETTO:+0100
TZNAME:BST
DTSTART:20250330T010000
END:DAYLIGHT
BEGIN:STANDARD
TZOFFSETFROM:+0100
TZOFFSETTO:+0000
TZNAME:GMT
DTSTART:20251026T010000
END:STANDARD
BEGIN:DAYLIGHT
TZOFFSETFROM:+0000
TZOFFSETTO:+0100
TZNAME:BST
DTSTART:20260329T010000
END:DAYLIGHT
BEGIN:STANDARD
TZOFFSETFROM:+0100
TZOFFSETTO:+0000
TZNAME:GMT
DTSTART:20261025T010000
END:STANDARD
BEGIN:DAYLIGHT
TZOFFSETFROM:+0000
TZOFFSETTO:+0100
TZNAME:BST
DTSTART:20270328T010000
END:DAYLIGHT
BEGIN:STANDARD
TZOFFSETFROM:+0100
TZOFFSETTO:+0000
TZNAME:GMT
DTSTART:20271031T010000
END:STANDARD
END:VTIMEZONE
BEGIN:VEVENT
DTSTART;TZID=Europe/London:20260309T090000
DTEND;TZID=Europe/London:20260309T123000
DTSTAMP:20260420T122944
CREATED:20251119T133831Z
LAST-MODIFIED:20251119T133831Z
UID:10000644-1773046800-1773059400@liverycommittee.org
SUMMARY:HMP Wormwood Scrubs sponsored walk
DESCRIPTION:A series of 6 sponsored walks starts at different London prisons\, Sheriffs’ & Recorder’s Fund.
URL:https://liverycommittee.org/event/hmp-wormwood-scrubs-sponsored-walk/
END:VEVENT
BEGIN:VEVENT
DTSTART;TZID=Europe/London:20260309T130500
DTEND;TZID=Europe/London:20260309T150000
DTSTAMP:20260420T122944
CREATED:20260202T154911Z
LAST-MODIFIED:20260202T154911Z
UID:10000664-1773061500-1773068400@liverycommittee.org
SUMMARY:International Women's Day Mass
DESCRIPTION:
URL:https://liverycommittee.org/event/international-womens-day-mass/
LOCATION:St Mary le Bow Church\, Cheapside\, London\, EC2V 6AU
END:VEVENT
BEGIN:VEVENT
DTSTART;TZID=Europe/London:20260309T180000
DTEND;TZID=Europe/London:20260309T190000
DTSTAMP:20260420T122944
CREATED:20250812T093458Z
LAST-MODIFIED:20250813T094911Z
UID:10000604-1773079200-1773082800@liverycommittee.org
SUMMARY:Amputation: A Dramatic Act\, 18th Century Britain's Most Famous Case – Dawn Kemp
DESCRIPTION:18th CENTURY BRITAIN’S MOST FAMOUSCASE – SPEAKER: DAWN KEMP \nContemporary representations of surgical operations in Britain in the eighteenth century are rare. The indelicacy of presenting moments of the most extreme human agonies\, even by the most celebrated satirists\, was largely deemed beyond acceptable taste. Protection of the surgeons’ professional space from the public eye was important to contain fear and anxiety surrounding their practice. Guarding against patient exploitation was as important to hospital governors\, mindful of their hospital’s reputation and keen to gain donations from wealthy benefactors\, as to the patients themselves. \nA recently recovered oil painting\, stolen from the Hunterian Museum at the Royal College of Surgeons of England in 1983\, ‘provides a unique visual record of British surgical practice in the mid-1700s. \nDawn is Director of Museums and Special Collections at the College and was Project Director and co-curator of the redesigned Hunterian Museum which opened there in May 2023.
URL:https://liverycommittee.org/event/amputation-a-dramatic-act-dawn-kemp/
LOCATION:Apothecaries Hall\, Black Friars Lane\, London\, EC4V 6EJ\, United Kingdom
ATTACH;FMTTYPE=image/jpeg:https://liverycommittee.org/wp-content/uploads/2025/08/Dawn-Kemp-RCS-England-photo.jpg
END:VEVENT
BEGIN:VEVENT
DTSTART;TZID=Europe/London:20260310T170000
DTEND;TZID=Europe/London:20260310T213000
DTSTAMP:20260420T122944
CREATED:20250926T130008Z
LAST-MODIFIED:20250926T130008Z
UID:10000631-1773162000-1773178200@liverycommittee.org
SUMMARY:Annual Tutt Lecture
DESCRIPTION:The landmark governance-related Lecture put on each year by the Chartered Secretaries Livery Company. Funded by a legacy from the first ever lady Master\, Sylvia Tutt. All Liverymen with a passion for good governance are welcome
URL:https://liverycommittee.org/event/annual-tutt-lecture/
LOCATION:Ironmongers’ Hall\, Shaftesbury Place\, London\, EC2Y 8AA\, United Kingdom
END:VEVENT
END:VCALENDAR