BEGIN:VCALENDAR
VERSION:2.0
PRODID:-//Livery Committee - ECPv6.15.20//NONSGML v1.0//EN
CALSCALE:GREGORIAN
METHOD:PUBLISH
X-WR-CALNAME:Livery Committee
X-ORIGINAL-URL:https://liverycommittee.org
X-WR-CALDESC:Events for Livery Committee
REFRESH-INTERVAL;VALUE=DURATION:PT1H
X-Robots-Tag:noindex
X-PUBLISHED-TTL:PT1H
BEGIN:VTIMEZONE
TZID:Europe/London
BEGIN:DAYLIGHT
TZOFFSETFROM:+0000
TZOFFSETTO:+0100
TZNAME:BST
DTSTART:20250330T010000
END:DAYLIGHT
BEGIN:STANDARD
TZOFFSETFROM:+0100
TZOFFSETTO:+0000
TZNAME:GMT
DTSTART:20251026T010000
END:STANDARD
BEGIN:DAYLIGHT
TZOFFSETFROM:+0000
TZOFFSETTO:+0100
TZNAME:BST
DTSTART:20260329T010000
END:DAYLIGHT
BEGIN:STANDARD
TZOFFSETFROM:+0100
TZOFFSETTO:+0000
TZNAME:GMT
DTSTART:20261025T010000
END:STANDARD
BEGIN:DAYLIGHT
TZOFFSETFROM:+0000
TZOFFSETTO:+0100
TZNAME:BST
DTSTART:20270328T010000
END:DAYLIGHT
BEGIN:STANDARD
TZOFFSETFROM:+0100
TZOFFSETTO:+0000
TZNAME:GMT
DTSTART:20271031T010000
END:STANDARD
END:VTIMEZONE
BEGIN:VEVENT
DTSTART;TZID=Europe/London:20260411T100000
DTEND;TZID=Europe/London:20260411T153000
DTSTAMP:20260424T162932
CREATED:20250820T140356Z
LAST-MODIFIED:20250820T140425Z
UID:10000610-1775901600-1775921400@liverycommittee.org
SUMMARY:Ethics & Philosophy showcase: History of Human Rights Day
DESCRIPTION:Held annually as part of the Ethics and Philosophy of Medicine course and as one of our key showcase events for the Centre for Health Studies\, the History of Human Rights Day will explore the history of Post-War UK medical ethics\, the Philosophy of Medicine during the Third Reich and the History of Human Rights compared with the present day. \nEngage in ethical discussions from the perspective of moral philosophy and get a taster of what the DPMSA course has to offer. Delve into interactive talks from leading ethicists\, historians and lawyers including Professor Raanan Gillon (Imperial College London)\, Professor Michael Biddiss (University of Reading) and Megan Pfiffer (University of Toronto). \nThis free event is open to our students and alumni on the DMCC and DHMSA diploma courses\, Society Members\, Philosophy Fellows and Liverymen. \nContact: cademicTraining@apothecaries.org
URL:https://liverycommittee.org/event/ethics-philosophy-showcase-history-of-human-rights-day/
LOCATION:Apothecaries Hall\, Black Friars Lane\, London\, EC4V 6EJ\, United Kingdom
ATTACH;FMTTYPE=image/jpeg:https://liverycommittee.org/wp-content/uploads/2025/08/Picture11.jpg
END:VEVENT
END:VCALENDAR