BEGIN:VCALENDAR
VERSION:2.0
PRODID:-//Livery Committee - ECPv6.15.20//NONSGML v1.0//EN
CALSCALE:GREGORIAN
METHOD:PUBLISH
X-WR-CALNAME:Livery Committee
X-ORIGINAL-URL:https://liverycommittee.org
X-WR-CALDESC:Events for Livery Committee
REFRESH-INTERVAL;VALUE=DURATION:PT1H
X-Robots-Tag:noindex
X-PUBLISHED-TTL:PT1H
BEGIN:VTIMEZONE
TZID:Europe/London
BEGIN:DAYLIGHT
TZOFFSETFROM:+0000
TZOFFSETTO:+0100
TZNAME:BST
DTSTART:20250330T010000
END:DAYLIGHT
BEGIN:STANDARD
TZOFFSETFROM:+0100
TZOFFSETTO:+0000
TZNAME:GMT
DTSTART:20251026T010000
END:STANDARD
BEGIN:DAYLIGHT
TZOFFSETFROM:+0000
TZOFFSETTO:+0100
TZNAME:BST
DTSTART:20260329T010000
END:DAYLIGHT
BEGIN:STANDARD
TZOFFSETFROM:+0100
TZOFFSETTO:+0000
TZNAME:GMT
DTSTART:20261025T010000
END:STANDARD
BEGIN:DAYLIGHT
TZOFFSETFROM:+0000
TZOFFSETTO:+0100
TZNAME:BST
DTSTART:20270328T010000
END:DAYLIGHT
BEGIN:STANDARD
TZOFFSETFROM:+0100
TZOFFSETTO:+0000
TZNAME:GMT
DTSTART:20271031T010000
END:STANDARD
END:VTIMEZONE
BEGIN:VEVENT
DTSTART;TZID=Europe/London:20260413T100000
DTEND;TZID=Europe/London:20260413T150000
DTSTAMP:20260424T150939
CREATED:20260124T113055Z
LAST-MODIFIED:20260124T113055Z
UID:10000658-1776074400-1776092400@liverycommittee.org
SUMMARY:SIMposium - a Showcase of research and innovation supported by the Worshipful Company of Scientific Instrument Makers
DESCRIPTION:Join us in person at SIMposium to check out the coolest research powered by SIM!\nWorshipful Company of Scientific Instrument Makers – SIMposium \nEach year the Worshipful Company of Scientific Instrument Makers provides a number of awards for postgraduate and postdoctoral researchers working at UK Universities\, as part of our charitable activities. The research and innovation in measurement\, instrumentation and data analysis includes the awardees own novel applications to science or engineering. This breadth and quality reflects the excellence of research and innovation across the UK. \nWe are pleased to announce a showcase of this work at our 2026 SIMposium\, presented by the award-holders themselves. This provides an opportunity for those with an interest in leading-edge measurement and instrumentation to receive an update on a wide range of projects reflected in the presentation titles. Presenters will be available to meet and discuss their research. This is a major networking opportunity including attendees with an extensive range of experience and expertise who may welcome the opportunity to advise and support the presenters. \nAdvanced registration for this event is required. A light lunch will be provided. \nA Certificate of Attendance is available for attendees on request. \nAgenda \n10:15 AM\nArrival\, Registration and Refreshments \n10:45 AM\nDr. Varuna De Silva – Role of AI in Measurement and Instrumentation. \n11:25 AM\nXinze Lyu – Integrated Sensing and Communication Prototype \n11:45 AM\nRuben Ruiz-Mateos Serrano – Translating Wearable E-Textile \n12:05 PM\nJoanna Coote – Measuring the Monument \n12:25 PM\nLunch\, Posters and Networking \n1:05 PM\nAmparo Guemes Gonzalez – Multimodal Brain Probe \n1:35 PM\nHuazhi Dong – Multi-modal perception systems for embodied intelligence \n1:55 PM\nZhe Liu – Natural-like exteroception and proprioception \n2:15 PM\nMahjabeen Fatima Yousafzai – Robust hBN encapsulated graphene sensors \n2:35 PM\nSeyed Ahmad Hosseini – Wet Gas Flow Measurement \n2:55 PM\nVinay Kopnar – Using oscillatory shear rheology \n3:15 PM\nBreak\, Refreshments and Networking \n3:30 PM\nLeo Wing Hong Fung – Utilizing Low Earth Orbit Satellites \n3:50 PM\nMatthew Kibble – Bioprinting\, Biomaterials\, and Device Methodology \n4:10 PM\nMatthew Green – Magnetic quantum sensing with coloured diamond centres \n4:30 PM\nSiluni Gunathilake – Fluorescent sensing platform for monitoring copper \n4:50 PM\nRachel Brady – Lung imaging in a preclinical model of pulmonary fibrosis \n5:10 PM\nSummary \n5:15 PM\nEnd
URL:https://liverycommittee.org/event/simposium-a-showcase-of-research-and-innovation-supported-by-the-worshipful-company-of-scientific-instrument-makers/
LOCATION:Glaziers Hall\, 9 Montague Close\, London Bridge\, London\, SE1 9DD\, United Kingdom
ATTACH;FMTTYPE=image/jpeg:https://liverycommittee.org/wp-content/uploads/2026/01/Screenshot-2026-01-12-153513.jpg
ORGANIZER;CN="Worshipful Company of Scientific Instrument Makers":MAILTO:clerk@wcsim.co.uk
END:VEVENT
BEGIN:VEVENT
DTSTART;TZID=Europe/London:20260416T160000
DTEND;TZID=Europe/London:20260416T180000
DTSTAMP:20260424T150939
CREATED:20260416T135530Z
LAST-MODIFIED:20260416T135530Z
UID:10000686-1776355200-1776362400@liverycommittee.org
SUMMARY:Livery Climate Action Group AGM
DESCRIPTION:The Livery Climate Action Group its holding is AGM on Wednesday 24th June at 4pm following Common Hall and Livery lunches on that day. This will be held at Wax Chandlers’ Hall. \nThe meeting will start with the formal reports of the work of LCAG; election of the Executive and presentation of the accounts. The past year has shown LCAG has achieved so much and are pleased to announce their 108th member who are the Feltmakers’ Livery. \nAttendees will hear the results of the recent survey of members followed by presentations by three Liveries (including the Insurers) about their climate and sustainability work. \nThe presentations will be followed by drinks. \nThe event is only open to the single point of contact (SPOC) of each Livery Company member or their representative if they cannot attend. Sign up for a ticket at Ticket Tailor or email the Group.
URL:https://liverycommittee.org/event/livery-climate-action-group-agm/
LOCATION:Wax Chandlers Hall\, Wax Chandlers Hall\, London\, EC2V 7AD\, United Kingdom
ORGANIZER;CN="Livery Climate Action Group":MAILTO:info@liverycag.org.uk
END:VEVENT
END:VCALENDAR